BEGIN:VCALENDAR
VERSION:2.0
PRODID:-//ChamberMaster//Event Calendar 2.0//EN
METHOD:PUBLISH
X-PUBLISHED-TTL:P3D
REFRESH-INTERVAL:P3D
CALSCALE:GREGORIAN
BEGIN:VEVENT
DTSTART:20231031T130000Z
DTEND:20231031T140000Z
X-MICROSOFT-CDO-ALLDAYEVENT:FALSE
SUMMARY:Breakfast with the Mayor & Friends
DESCRIPTION:We are enhancing our quarterly Breakfast with the Mayor event! Join us on Tuesday\, October 31st at 8:00 am for 'Breakfast with the Mayor & Friends'\, featuring a panel discussion with:\n\n	Chaz Molder\, Columbia Mayor\n	Kellye Murphy\, Columbia Tourism & Marketing Director\n	Paul Keltner\, Columbia Development Services Director\n\nTopics of discussion will span from community growth and development projects to tourism initiatives\, ensuring a well-rounded perspective on Columbia's current and future vitality. Don't miss this opportunity to engage with a few of the leaders shaping the future of Columbia.
X-ALT-DESC;FMTTYPE=text/html:<font face="arial"><span style="font-size: 16px\;">We are enhancing our quarterly Breakfast with the Mayor event! Join us on Tuesday\, October 31st at 8:00 am for &#39\;Breakfast with the Mayor &amp\; Friends&#39\;\, featuring a panel discussion&nbsp\;with:</span></font>\n<ul>\n	<li><font face="arial"><span style="font-size: 16px\;">Chaz Molder\, Columbia Mayor</span></font></li>\n	<li><font face="arial"><span style="font-size: 16px\;">Kellye Murphy\, Columbia Tourism &amp\; Marketing Director</span></font></li>\n	<li><font face="arial"><span style="font-size: 16px\;">Paul Keltner\,&nbsp\;</span></font><span style="font-family: arial\; font-size: 16px\;">Columbia Development Services Director</span></li>\n</ul>\n<font face="arial"><span style="font-size: 16px\;">Topics of discussion will span from community growth and development&nbsp\;projects to tourism&nbsp\;initiatives\, ensuring a well-rounded perspective on Columbia&#39\;s current and future vitality.&nbsp\;</span></font><font face="arial"><span style="font-size: 16px\;">Don&#39\;t miss this opportunity to engage with a few of the leaders shaping the future of Columbia.&nbsp\;</span></font>
LOCATION:Puckett's Grocery & Restaurant Guitar & Cadillac Hall (upstairs) 15 Public Square\, Columbia\, TN
UID:e.1832.564218
SEQUENCE:3
DTSTAMP:20260425T172917Z
URL:https://business.mauryalliance.com/events/details/breakfast-with-the-mayor-friends-564218
END:VEVENT

END:VCALENDAR
