BEGIN:VCALENDAR
VERSION:2.0
PRODID:-//ChamberMaster//Event Calendar 2.0//EN
METHOD:PUBLISH
X-PUBLISHED-TTL:P3D
REFRESH-INTERVAL:P3D
CALSCALE:GREGORIAN
BEGIN:VEVENT
DTSTART:20231203T020000Z
DTEND:20231203T040000Z
X-MICROSOFT-CDO-ALLDAYEVENT:FALSE
SUMMARY:Barracuda - America's Heart Tribute
DESCRIPTION:Barracuda - America's Heart Tribute is a brilliant salute to Rock & Roll Hall of Fame inductees\, HEART.\n\nHailing from Music City (Nashville\, TN)\, each extremely talented member is world traveled with an impressive resum . Known internationally for its monster vocals\, stellar musicianship\, and dazzling live performances\, this band is the busiest Heart tribute in the USA.\n\nTaking audiences on a musical journey back in time\, Barracuda faithfully recreates Heart's radio & chart-topping hits that are loved by fans worldwide!\n\n \n\n"We always look forward to captivating the crowd with the music of Heart. We are here to keep the light shining\, to keep it alive\, so their incredible music continues to live on\," says Shareen Ann\, who portrays Ann Wilson.\n\nWith their highly stylized concert presentation of Heart's greatest hits\, no audience member will be disappointed. Experience Barracuda's energetic\, power-packed show right here at The Mulehouse!\n\n\n\nVIP SUITE AVAILABLE FOR 6-8 of your friends! \n\n\n	Best view in the house! \n	Designated server throughout the evening! \n	Charcuterie board from Buck and Board! \n	Velvet couch and two hightop tables with barstools! \n\n\nShow is for all ages\, but anyone under 18 must be accompanied by a parent or guardian.\n\nFor ADA requests\, please email info@themulehouse.com.
X-ALT-DESC;FMTTYPE=text/html:<p><span style="font-family:robotobold\,helvetica\,arial\,sans-serif">Barracuda - America&rsquo\;s Heart Tribute&nbsp\;</span>is a brilliant salute to Rock &amp\; Roll Hall of Fame inductees\, HEART.</p>\n\n<div>Hailing from Music City (Nashville\, TN)\, each extremely talented member is world traveled with an impressive resum&eacute\;. Known internationally for its monster vocals\, stellar musicianship\, and dazzling live performances\, this band is the busiest Heart tribute in the USA.</div>\n\n<div>Taking audiences on a musical journey back in time\,&nbsp\;Barracuda&nbsp\;faithfully recreates Heart&#39\;s radio &amp\; chart-topping hits that are loved by fans worldwide!</div>\n\n<div>&nbsp\;</div>\n\n<div><em>&quot\;We always look forward to captivating the crowd with the music of Heart. We are here to keep the light shining\, to keep it alive\, so their incredible music continues to live on\,&rdquo\;</em>&nbsp\;says Shareen Ann\, who portrays Ann Wilson.</div>\n\n<div>With their highly stylized concert presentation of Heart&#39\;s greatest hits\, no audience member will be disappointed. Experience&nbsp\;Barracuda&#39\;s energetic\, power-packed show right here at The Mulehouse!</div>\n\n<p><br />\n<span style="font-family:robotobold\,helvetica\,arial\,sans-serif">VIP SUITE AVAILABLE FOR 6-8 of your friends!&nbsp\;</span></p>\n\n<ul>\n	<li>Best view in the house!&nbsp\;</li>\n	<li>Designated server throughout the evening!&nbsp\;</li>\n	<li>Charcuterie board from Buck and Board!&nbsp\;</li>\n	<li>Velvet couch and two hightop tables with barstools!&nbsp\;</li>\n</ul>\n\n<p>Show is for all ages\, but anyone under 18 must be accompanied by a parent or guardian.</p>\n\n<p>For ADA requests\, please email info@themulehouse.com.</p>\n
LOCATION:The Mule House
UID:e.1832.564346
SEQUENCE:3
DTSTAMP:20260425T202705Z
URL:https://business.mauryalliance.com/events/details/barracuda-america-s-heart-tribute-564346
END:VEVENT

END:VCALENDAR
