BEGIN:VCALENDAR
VERSION:2.0
PRODID:-//ChamberMaster//Event Calendar 2.0//EN
METHOD:PUBLISH
X-PUBLISHED-TTL:P3D
REFRESH-INTERVAL:P3D
CALSCALE:GREGORIAN
BEGIN:VEVENT
DTSTART:20230924T000000Z
DTEND:20230924T021500Z
X-MICROSOFT-CDO-ALLDAYEVENT:FALSE
SUMMARY:Anastasia
DESCRIPTION:Watershed Public Theatre presents Anastasia. You'll be transported from the twilight of the Russian Empire to the euphoria of Paris in the 1920s\, as a brave young woman sets out to discover the mystery of her past. Pursued by a ruthless Soviet officer determined to silence her\, Anya enlists the aid of a dashing con man and a lovable ex-aristocrat. Together\, they embark on an epic adventure to help her find home\, love and family.\n\n\n\n"[An] emotionally rich and expertly crafted new musical."   Variety\n\n\n\n"Anastasia is the real thing! Fantastical\, intelligent\, well-crafted\, and exhilarating!"   Wall Street Journal\n\n\n\n"A fairy tale whose princess chooses her own kind of prince."   David Rooney\, Hollywood Reporter
X-ALT-DESC;FMTTYPE=text/html:<strong><span style="color:rgb(64\, 64\, 64)\; font-family:helvetica neue\,sans-serif\; font-size:15px">Watershed Public Theatre presents <em>Anastasia</em>. You&#39\;ll be transported from the twilight of the Russian Empire to the euphoria of Paris in the 1920s\, as a brave young woman sets out to discover the mystery of her past. Pursued by a ruthless Soviet officer determined to silence her\, Anya enlists the aid of a dashing con man and a lovable ex-aristocrat. Together\, they embark on an epic adventure to help her find home\, love and family.</span><br />\n<br />\n<span style="color:rgb(64\, 64\, 64)\; font-family:helvetica neue\,sans-serif\; font-size:15px">&ldquo\;[An] emotionally rich and expertly crafted new musical.&rdquo\; &ndash\; Variety</span><br />\n<br />\n<span style="color:rgb(64\, 64\, 64)\; font-family:helvetica neue\,sans-serif\; font-size:15px">&ldquo\;Anastasia is the real thing! Fantastical\, intelligent\, well-crafted\, and exhilarating!&rdquo\; &ndash\; Wall Street Journal</span><br />\n<br />\n<span style="color:rgb(64\, 64\, 64)\; font-family:helvetica neue\,sans-serif\; font-size:15px">&ldquo\;A fairy tale whose princess chooses her own kind of prince.&rdquo\; &ndash\; David Rooney\, Hollywood Reporter</span></strong>
LOCATION:Columbia State Community College Cherry Theater (Hickman Building) 1665 Hampshire Pike Columbia\, TN 38401
UID:e.1832.564142
SEQUENCE:3
DTSTAMP:20260425T173652Z
URL:https://business.mauryalliance.com/events/details/anastasia-09-23-2023-564142
END:VEVENT

END:VCALENDAR
