BEGIN:VCALENDAR
VERSION:2.0
PRODID:-//ChamberMaster//Event Calendar 2.0//EN
METHOD:PUBLISH
X-PUBLISHED-TTL:P3D
REFRESH-INTERVAL:P3D
CALSCALE:GREGORIAN
BEGIN:VEVENT
DTSTART:20220927T163000Z
DTEND:20220927T180000Z
X-MICROSOFT-CDO-ALLDAYEVENT:FALSE
SUMMARY:ALIGN Maury: How to Find and Keep Top Talent in a Tough Market
DESCRIPTION:ALIGN Maury Lunch & Learn: How to Find and Keep Top Talent in a Tough Market\n\n \nGood help is hard to find - especially these days. How can your business compete when the ability to work from home means you're competing with almost every business in the world for quality talent? How can you invest in staff without immediately losing them to another company?\n\n \n\nBring your questions and an open mind to this lunch and learn taught by small business management and leadership expert\, Danny Coleman\, and learn how to learn how to find and retain top talent.
X-ALT-DESC;FMTTYPE=text/html:<div><span style="font-size:18px\;"><strong>ALIGN Maury&nbsp\;Lunch &amp\; Learn: How to Find and Keep Top Talent in a Tough Market</strong></span></div>\n\n<div>&nbsp\;</div>\n<span style="font-size:16px\;">Good help is hard to find - especially these days. How can your business compete when the ability to work from home means you&rsquo\;re competing with almost every business in the world for quality talent? How can you invest in staff without immediately losing them to another company?</span>\n\n<div>&nbsp\;</div>\n\n<div><span style="font-size:16px\;">Bring your questions and an open mind to this lunch and learn taught by small business management and leadership expert\, Danny Coleman\, and learn how to learn how to find&nbsp\;and retain top talent.&nbsp\;</span></div>\n
LOCATION:American Job Center 119 Nashville Hwy\, Suite 106 Columbia\, TN 38401
UID:e.1832.563578
SEQUENCE:3
DTSTAMP:20260424T223444Z
URL:https://business.mauryalliance.com/events/details/align-maury-how-to-find-and-keep-top-talent-in-a-tough-market-563578
END:VEVENT

END:VCALENDAR
