BEGIN:VCALENDAR
VERSION:2.0
PRODID:-//ChamberMaster//Event Calendar 2.0//EN
METHOD:PUBLISH
X-PUBLISHED-TTL:P3D
REFRESH-INTERVAL:P3D
CALSCALE:GREGORIAN
BEGIN:VEVENT
DTSTART:20231117T233000Z
DTEND:20231117T233000Z
X-MICROSOFT-CDO-ALLDAYEVENT:FALSE
SUMMARY:A Very Maury Christmas Preview Party
DESCRIPTION:Presented by McDonald's of Maury County\n\n\n\nStart the holiday season with a night filled with appetizers\, wine\, Christmas music\, and shopping. Preview Party Guests will enjoy exclusive early access to the most local small businesses and makers ever in a new space.\n\n \n\nInvite your friends for a girl's night out and get your holiday shopping done in one place as you sip\, shop and support!\n\n \n\nTickets are $50 and all Preview Party proceeds will directly support aMuse'um Children's Museum.
X-ALT-DESC;FMTTYPE=text/html:<div><em><strong>Presented by McDonald&#39\;s of Maury County</strong></em><br />\n<br />\nStart the holiday season with a night filled with appetizers\, wine\, Christmas music\, and shopping. Preview Party Guests will enjoy exclusive early access to the most local small businesses and makers ever in a new space.</div>\n\n<div>&nbsp\;</div>\n\n<div>Invite your friends for a girl&#39\;s night out and get your holiday shopping done in one place as you sip\, shop and support!</div>\n\n<div>&nbsp\;</div>\n\n<div><em>Tickets are $50 and all Preview Party proceeds will directly support aMuse&#39\;um Children&#39\;s Museum.</em></div>\n
LOCATION:The Factory at Columbia 101 N. James M Campbell Blvd. Columbia\, TN 38401
UID:e.1832.564352
SEQUENCE:3
DTSTAMP:20260425T185841Z
URL:https://business.mauryalliance.com/events/details/a-very-maury-christmas-preview-party-564352
END:VEVENT

END:VCALENDAR
