BEGIN:VCALENDAR
VERSION:2.0
PRODID:-//ChamberMaster//Event Calendar 2.0//EN
METHOD:PUBLISH
X-PUBLISHED-TTL:P3D
REFRESH-INTERVAL:P3D
CALSCALE:GREGORIAN
BEGIN:VEVENT
DTSTART:20230928T230000Z
DTEND:20230929T010000Z
X-MICROSOFT-CDO-ALLDAYEVENT:FALSE
SUMMARY:A Taste of the Holidays
DESCRIPTION:Experience the Flavors and Fun your staff can have at your holiday party here at Tenn Pin Alley\n\nCocktails and Tasting @ 6:00\n\nTours and Indoor Attractions to follow
X-ALT-DESC;FMTTYPE=text/html:Experience the Flavors and Fun your staff can have at your holiday party here at Tenn Pin Alley<br />\nCocktails and Tasting @ 6:00<br />\nTours and Indoor Attractions to follow
LOCATION:Tenn Pin Alley 730 Mooresville Pike Columbia\, TN 38401
UID:e.1832.564161
SEQUENCE:3
DTSTAMP:20260425T173119Z
URL:https://business.mauryalliance.com/events/details/a-taste-of-the-holidays-564161
END:VEVENT

END:VCALENDAR
