BEGIN:VCALENDAR
VERSION:2.0
PRODID:-//ChamberMaster//Event Calendar 2.0//EN
METHOD:PUBLISH
X-PUBLISHED-TTL:P3D
REFRESH-INTERVAL:P3D
CALSCALE:GREGORIAN
BEGIN:VEVENT
DTSTART:20240305T220000Z
DTEND:20240306T000000Z
X-MICROSOFT-CDO-ALLDAYEVENT:FALSE
SUMMARY:2024 Annual Tri-Chamber Mixer
DESCRIPTION:You are invited to the 2024 Annual Tri-Chamber Mixer\, co-hosted by Maury Alliance\, Spring Hill Chamber\, and Williamson Inc.\n\n\n\nThis networking event is scheduled for Tuesday\, March 5\, 2024\, from 4:00 PM to 6:00 PM at The Barn at Homestead Manor in Thompson's Station.\n\n\n\nAnnually\, this mixer brings together 150-200 business professionals across three chambers\, offering a platform for networking and business development. Attendees can expect an evening of food\, drinks\, and connections. We look forward to seeing you there!\n\n\n\nThank you to our sponsor\, Williamson Health.
X-ALT-DESC;FMTTYPE=text/html:<span style="font-family:arial\;"><span style="color: rgb(0\, 0\, 0)\; font-size: 14px\; word-spacing: 1.5px\;">You are invited to the 2024 Annual Tri-Chamber Mixer\, co-hosted by Maury Alliance\, Spring Hill Chamber\, and Williamson Inc.<br />\n<br />\nThis networking event is scheduled for Tuesday\, March 5\, 2024\, from 4:00 PM to 6:00 PM at The Barn at Homestead Manor in Thompson&#39\;s Station.</span><br style="box-sizing: content-box\; inset: auto\; clear: none\; color: rgb(0\, 0\, 0)\; content: normal\; direction: inherit\; display: inline\; empty-cells: show\; float: none\; font-variant-numeric: inherit\; font-variant-east-asian: inherit\; font-variant-alternates: inherit\; font-variant-position: inherit\; font-stretch: inherit\; font-size: 14px\; font-family: &quot\;Open Sans&quot\;\, sans-serif\; font-optical-sizing: inherit\; font-kerning: inherit\; font-feature-settings: inherit\; font-variation-settings: inherit\; line-height: inherit\; margin: 0px\; max-height: none\; max-width: none\; min-height: initial\; min-width: initial\; opacity: 1\; outline-offset: 0px\; overflow: visible\; padding: 0px\; position: static\; resize: none\; table-layout: auto\; text-overflow: clip\; vertical-align: baseline\; visibility: inherit\; word-break: inherit\; word-spacing: 1.5px\; overflow-wrap: inherit\; z-index: auto\; background-image: none\; background-position: initial\; background-size: initial\; background-repeat: initial\; background-attachment: initial\; background-origin: initial\; background-clip: initial\; border-width: initial\; border-style: none\; border-color: initial\; border-collapse: separate\; border-image: none 100% 1 0 / 1 / 0 stretch\; border-radius: 0px\; height: auto\; width: auto\;" />\n<br style="box-sizing: content-box\; inset: auto\; clear: none\; color: rgb(0\, 0\, 0)\; content: normal\; direction: inherit\; display: inline\; empty-cells: show\; float: none\; font-variant-numeric: inherit\; font-variant-east-asian: inherit\; font-variant-alternates: inherit\; font-variant-position: inherit\; font-stretch: inherit\; font-size: 14px\; font-family: &quot\;Open Sans&quot\;\, sans-serif\; font-optical-sizing: inherit\; font-kerning: inherit\; font-feature-settings: inherit\; font-variation-settings: inherit\; line-height: inherit\; margin: 0px\; max-height: none\; max-width: none\; min-height: initial\; min-width: initial\; opacity: 1\; outline-offset: 0px\; overflow: visible\; padding: 0px\; position: static\; resize: none\; table-layout: auto\; text-overflow: clip\; vertical-align: baseline\; visibility: inherit\; word-break: inherit\; word-spacing: 1.5px\; overflow-wrap: inherit\; z-index: auto\; background-image: none\; background-position: initial\; background-size: initial\; background-repeat: initial\; background-attachment: initial\; background-origin: initial\; background-clip: initial\; border-width: initial\; border-style: none\; border-color: initial\; border-collapse: separate\; border-image: none 100% 1 0 / 1 / 0 stretch\; border-radius: 0px\; height: auto\; width: auto\;" />\n<span style="color: rgb(0\, 0\, 0)\; font-size: 14px\; word-spacing: 1.5px\;">Annually\, this mixer brings together 150-200 business professionals across three chambers\, offering a platform for networking and business development. Attendees can expect an evening of food\, drinks\, and connections.&nbsp\;We look forward to seeing you there!</span><br style="box-sizing: content-box\; inset: auto\; clear: none\; color: rgb(0\, 0\, 0)\; content: normal\; direction: inherit\; display: inline\; empty-cells: show\; float: none\; font-variant-numeric: inherit\; font-variant-east-asian: inherit\; font-variant-alternates: inherit\; font-variant-position: inherit\; font-stretch: inherit\; font-size: 14px\; font-family: &quot\;Open Sans&quot\;\, sans-serif\; font-optical-sizing: inherit\; font-kerning: inherit\; font-feature-settings: inherit\; font-variation-settings: inherit\; line-height: inherit\; margin: 0px\; max-height: none\; max-width: none\; min-height: initial\; min-width: initial\; opacity: 1\; outline-offset: 0px\; overflow: visible\; padding: 0px\; position: static\; resize: none\; table-layout: auto\; text-overflow: clip\; vertical-align: baseline\; visibility: inherit\; word-break: inherit\; word-spacing: 1.5px\; overflow-wrap: inherit\; z-index: auto\; background-image: none\; background-position: initial\; background-size: initial\; background-repeat: initial\; background-attachment: initial\; background-origin: initial\; background-clip: initial\; border-width: initial\; border-style: none\; border-color: initial\; border-collapse: separate\; border-image: none 100% 1 0 / 1 / 0 stretch\; border-radius: 0px\; height: auto\; width: auto\;" />\n<br style="box-sizing: content-box\; inset: auto\; clear: none\; color: rgb(0\, 0\, 0)\; content: normal\; direction: inherit\; display: inline\; empty-cells: show\; float: none\; font-variant-numeric: inherit\; font-variant-east-asian: inherit\; font-variant-alternates: inherit\; font-variant-position: inherit\; font-stretch: inherit\; font-size: 14px\; font-family: &quot\;Open Sans&quot\;\, sans-serif\; font-optical-sizing: inherit\; font-kerning: inherit\; font-feature-settings: inherit\; font-variation-settings: inherit\; line-height: inherit\; margin: 0px\; max-height: none\; max-width: none\; min-height: initial\; min-width: initial\; opacity: 1\; outline-offset: 0px\; overflow: visible\; padding: 0px\; position: static\; resize: none\; table-layout: auto\; text-overflow: clip\; vertical-align: baseline\; visibility: inherit\; word-break: inherit\; word-spacing: 1.5px\; overflow-wrap: inherit\; z-index: auto\; background-image: none\; background-position: initial\; background-size: initial\; background-repeat: initial\; background-attachment: initial\; background-origin: initial\; background-clip: initial\; border-width: initial\; border-style: none\; border-color: initial\; border-collapse: separate\; border-image: none 100% 1 0 / 1 / 0 stretch\; border-radius: 0px\; height: auto\; width: auto\;" />\n<span style="color: rgb(0\, 0\, 0)\; font-size: 14px\; word-spacing: 1.5px\;">Thank you to our sponsor\, Williamson Health.</span></span>
LOCATION:The Barn at Homestead Manor 4683 Columbia Pike Thompson's Station\, TN 37179
UID:e.1832.564619
SEQUENCE:3
DTSTAMP:20260426T011029Z
URL:https://business.mauryalliance.com/events/details/2024-annual-tri-chamber-mixer-564619
END:VEVENT

END:VCALENDAR
